BEGIN:VCALENDAR
VERSION:2.0
PRODID:SchoolNow
CALSCALE:GREGORIAN
BEGIN:VEVENT
UID:04889d9c-94d3-11ed-b905-02c37e40c7c3
DTSTAMP:20230115T124915Z
SUMMARY:Storytime - Feb. 20th
URL;VALUE=URI:https://www.wildernesslakecdd.org/calendar/3668351/storytime-
 feb-20th
DTSTART:20230220T150000Z
DTEND:20230220T160000Z
END:VEVENT
END:VCALENDAR
