BEGIN:VCALENDAR
VERSION:2.0
PRODID:SchoolNow
CALSCALE:GREGORIAN
BEGIN:VEVENT
UID:f38fda78-94d2-11ed-a0c9-02c37e40c7c3
DTSTAMP:20230115T124846Z
SUMMARY:Storytime - Feb. 13th
URL;VALUE=URI:https://www.wildernesslakecdd.org/calendar/3668350/storytime-
 feb-13th
DTSTART:20230213T150000Z
DTEND:20230213T160000Z
END:VEVENT
END:VCALENDAR
