BEGIN:VCALENDAR
VERSION:2.0
PRODID:SchoolNow
CALSCALE:GREGORIAN
BEGIN:VEVENT
UID:db1d5646-94d2-11ed-acdb-02c37e40c7c3
DTSTAMP:20230115T124805Z
SUMMARY:Storytime - Feb. 6th
URL;VALUE=URI:https://www.wildernesslakecdd.org/calendar/3668349/storytime-
 feb-6th
DTSTART:20230206T150000Z
DTEND:20230206T160000Z
END:VEVENT
END:VCALENDAR
