BEGIN:VCALENDAR
VERSION:2.0
PRODID:SchoolNow
CALSCALE:GREGORIAN
BEGIN:VEVENT
UID:b170366a-94d2-11ed-8d1c-02c37e40c7c3
DTSTAMP:20230115T124655Z
SUMMARY:Tennis - Feb. 4th
URL;VALUE=URI:https://www.wildernesslakecdd.org/calendar/3668348/tennis-feb
 -4th
DTSTART:20230204T140000Z
DTEND:20230204T150000Z
END:VEVENT
END:VCALENDAR
