BEGIN:VCALENDAR
VERSION:2.0
PRODID:SchoolNow
CALSCALE:GREGORIAN
BEGIN:VEVENT
UID:830c236a-94d2-11ed-9853-02c37e40c7c3
DTSTAMP:20230115T124538Z
SUMMARY:Family Movie Night - Feb. 28th
LOCATION:Theatre
URL;VALUE=URI:https://www.wildernesslakecdd.org/calendar/3668347/family-mov
 ie-night-feb-28th
DTSTART:20230228T150000Z
DTEND:20230228T163000Z
END:VEVENT
END:VCALENDAR
