BEGIN:VCALENDAR
VERSION:2.0
PRODID:SchoolNow
CALSCALE:GREGORIAN
BEGIN:VEVENT
UID:784e5b3c-94d2-11ed-b71a-02c37e40c7c3
DTSTAMP:20230217T164925Z
SUMMARY:Family Movie Night - Feb. 23rd
LOCATION:Theatre
URL;VALUE=URI:https://www.wildernesslakecdd.org/calendar/3668346/family-mov
 ie-night-feb-23rd
DTSTART:20230223T230000Z
DTEND:20230224T003000Z
END:VEVENT
END:VCALENDAR
