BEGIN:VCALENDAR
VERSION:2.0
PRODID:SchoolNow
CALSCALE:GREGORIAN
BEGIN:VEVENT
UID:6ce337a4-94d2-11ed-95a0-02c37e40c7c3
DTSTAMP:20230115T124500Z
SUMMARY:Family Movie Night - Feb. 21st
LOCATION:Theatre
URL;VALUE=URI:https://www.wildernesslakecdd.org/calendar/3668345/family-mov
 ie-night-feb-21st
DTSTART:20230221T150000Z
DTEND:20230221T163000Z
END:VEVENT
END:VCALENDAR
