BEGIN:VCALENDAR
VERSION:2.0
PRODID:SchoolNow
CALSCALE:GREGORIAN
BEGIN:VEVENT
UID:53c57d86-94d2-11ed-b359-02c37e40c7c3
DTSTAMP:20230115T124418Z
SUMMARY:Family Movie Night - Feb. 7th
LOCATION:Theatre
URL;VALUE=URI:https://www.wildernesslakecdd.org/calendar/3668344/family-mov
 ie-night-feb-7th-clone
DTSTART:20230207T150000Z
DTEND:20230207T163000Z
END:VEVENT
END:VCALENDAR
