BEGIN:VCALENDAR
VERSION:2.0
PRODID:SchoolNow
CALSCALE:GREGORIAN
BEGIN:VEVENT
UID:44b586ec-94d2-11ed-a05d-02c37e40c7c3
DTSTAMP:20230115T124353Z
SUMMARY:Family Movie Night - Feb. 16th
LOCATION:Theatre
URL;VALUE=URI:https://www.wildernesslakecdd.org/calendar/3668343/family-mov
 ie-night-feb-16th
DTSTART:20230216T230000Z
DTEND:20230217T003000Z
END:VEVENT
END:VCALENDAR
