BEGIN:VCALENDAR
VERSION:2.0
PRODID:SchoolNow
CALSCALE:GREGORIAN
BEGIN:VEVENT
UID:19dbcaee-94d2-11ed-a769-02c37e40c7c3
DTSTAMP:20230115T124308Z
SUMMARY:Family Movie Night - Feb. 14th
LOCATION:Theatre
URL;VALUE=URI:https://www.wildernesslakecdd.org/calendar/3668342/family-mov
 ie-night-feb-14th
DTSTART:20230214T150000Z
DTEND:20230214T163000Z
END:VEVENT
END:VCALENDAR
