BEGIN:VCALENDAR
VERSION:2.0
PRODID:SchoolNow
CALSCALE:GREGORIAN
BEGIN:VEVENT
UID:0b7c935c-94d2-11ed-b10a-02c37e40c7c3
DTSTAMP:20230115T124217Z
SUMMARY:Family Movie Night - Feb. 9th
LOCATION:Theatre
URL;VALUE=URI:https://www.wildernesslakecdd.org/calendar/3668341/family-mov
 ie-night-feb-9th
DTSTART:20230209T230000Z
DTEND:20230210T003000Z
END:VEVENT
END:VCALENDAR
