BEGIN:VCALENDAR
VERSION:2.0
PRODID:SchoolNow
CALSCALE:GREGORIAN
BEGIN:VEVENT
UID:fc2716e8-94d1-11ed-b0dc-02c37e40c7c3
DTSTAMP:20230115T124151Z
SUMMARY:Family Movie Night - Feb. 7th
LOCATION:Theatre
URL;VALUE=URI:https://www.wildernesslakecdd.org/calendar/3668340/family-mov
 ie-night-feb-7th
DTSTART:20230207T230000Z
DTEND:20230208T003000Z
END:VEVENT
END:VCALENDAR
