BEGIN:VCALENDAR
VERSION:2.0
PRODID:SchoolNow
CALSCALE:GREGORIAN
BEGIN:VEVENT
UID:d8dea73c-94d1-11ed-b7d9-02c37e40c7c3
DTSTAMP:20230115T124052Z
SUMMARY:Family Movie Night - Feb. 2nd
LOCATION:Theatre
URL;VALUE=URI:https://www.wildernesslakecdd.org/calendar/3668339/family-mov
 ie-night-feb-2nd
DTSTART:20230202T230000Z
DTEND:20230203T003000Z
END:VEVENT
END:VCALENDAR
