BEGIN:VCALENDAR
VERSION:2.0
PRODID:SchoolNow
CALSCALE:GREGORIAN
BEGIN:VEVENT
UID:b294255c-94d1-11ed-92ad-02c37e40c7c3
DTSTAMP:20230115T123948Z
SUMMARY:Walking & Toning - Feb. 6th
URL;VALUE=URI:https://www.wildernesslakecdd.org/calendar/3668338/walking-to
 ning-feb-6th
DTSTART:20230206T143000Z
DTEND:20230206T154500Z
END:VEVENT
END:VCALENDAR
