BEGIN:VCALENDAR
VERSION:2.0
PRODID:SchoolNow
CALSCALE:GREGORIAN
BEGIN:VEVENT
UID:88f64f7c-94d1-11ed-8ecd-02c37e40c7c3
DTSTAMP:20230115T123838Z
SUMMARY:Food Truck - Feb. 22nd
URL;VALUE=URI:https://www.wildernesslakecdd.org/calendar/3668337/food-truck
 -feb-22nd
DTSTART:20230222T223000Z
DTEND:20230223T003000Z
END:VEVENT
END:VCALENDAR
