BEGIN:VCALENDAR
VERSION:2.0
PRODID:SchoolNow
CALSCALE:GREGORIAN
BEGIN:VEVENT
UID:4f59de82-94d1-11ed-80d6-02c37e40c7c3
DTSTAMP:20230115T123701Z
SUMMARY:Food Truck - Feb. 1st
URL;VALUE=URI:https://www.wildernesslakecdd.org/calendar/3668334/food-truck
 -feb-1st
DTSTART:20230201T223000Z
DTEND:20230202T003000Z
END:VEVENT
END:VCALENDAR
