BEGIN:VCALENDAR
VERSION:2.0
PRODID:SchoolNow
CALSCALE:GREGORIAN
BEGIN:VEVENT
UID:283d103a-94d1-11ed-afff-02c37e40c7c3
DTSTAMP:20230115T123556Z
SUMMARY:Walking & Toning - Mar. 1st
URL;VALUE=URI:https://www.wildernesslakecdd.org/calendar/3668333/walking-to
 ning-mar-1st
DTSTART:20230301T143000Z
DTEND:20230301T154500Z
END:VEVENT
END:VCALENDAR
