BEGIN:VCALENDAR
VERSION:2.0
PRODID:SchoolNow
CALSCALE:GREGORIAN
BEGIN:VEVENT
UID:19a8abf6-94d1-11ed-be74-02c37e40c7c3
DTSTAMP:20230115T123531Z
SUMMARY:Walking & Toning - Feb. 27th
URL;VALUE=URI:https://www.wildernesslakecdd.org/calendar/3668332/walking-to
 ning-feb-27th
DTSTART:20230227T143000Z
DTEND:20230227T154500Z
END:VEVENT
END:VCALENDAR
