BEGIN:VCALENDAR
VERSION:2.0
PRODID:SchoolNow
CALSCALE:GREGORIAN
BEGIN:VEVENT
UID:fddca652-94d0-11ed-8f5e-02c37e40c7c3
DTSTAMP:20230115T123445Z
SUMMARY:Walking & Toning - Feb. 22nd
URL;VALUE=URI:https://www.wildernesslakecdd.org/calendar/3668330/walking-to
 ning-feb-22nd
DTSTART:20230222T143000Z
DTEND:20230222T154500Z
END:VEVENT
END:VCALENDAR
