BEGIN:VCALENDAR
VERSION:2.0
PRODID:SchoolNow
CALSCALE:GREGORIAN
BEGIN:VEVENT
UID:e1807db2-94d0-11ed-ba03-02c37e40c7c3
DTSTAMP:20230115T123357Z
SUMMARY:Walking & Toning - Feb. 20th
URL;VALUE=URI:https://www.wildernesslakecdd.org/calendar/3668329/walking-to
 ning-feb-20th
DTSTART:20230220T143000Z
DTEND:20230220T154500Z
END:VEVENT
END:VCALENDAR
