BEGIN:VCALENDAR
VERSION:2.0
PRODID:SchoolNow
CALSCALE:GREGORIAN
BEGIN:VEVENT
UID:d4cc49e8-94d0-11ed-8d39-02c37e40c7c3
DTSTAMP:20230115T123336Z
SUMMARY:Walking & Toning - Feb. 17th
URL;VALUE=URI:https://www.wildernesslakecdd.org/calendar/3668328/walking-to
 ning-feb-17th
DTSTART:20230217T143000Z
DTEND:20230217T154500Z
END:VEVENT
END:VCALENDAR
