BEGIN:VCALENDAR
VERSION:2.0
PRODID:SchoolNow
CALSCALE:GREGORIAN
BEGIN:VEVENT
UID:c6bfaf84-94d0-11ed-b90a-02c37e40c7c3
DTSTAMP:20230115T123312Z
SUMMARY:Walking & Toning - Feb. 15th
URL;VALUE=URI:https://www.wildernesslakecdd.org/calendar/3668327/walking-to
 ning-feb-15th
DTSTART:20230215T143000Z
DTEND:20230215T154500Z
END:VEVENT
END:VCALENDAR
