BEGIN:VCALENDAR
VERSION:2.0
PRODID:SchoolNow
CALSCALE:GREGORIAN
BEGIN:VEVENT
UID:a23f3fd0-94d0-11ed-8766-02c37e40c7c3
DTSTAMP:20230115T123250Z
SUMMARY:Walking & Toning - Feb. 13th
URL;VALUE=URI:https://www.wildernesslakecdd.org/calendar/3668326/walking-to
 ning-feb-13th
DTSTART:20230213T143000Z
DTEND:20230213T154500Z
END:VEVENT
END:VCALENDAR
