BEGIN:VCALENDAR
VERSION:2.0
PRODID:SchoolNow
CALSCALE:GREGORIAN
BEGIN:VEVENT
UID:8931bb8a-94d0-11ed-98e9-02c37e40c7c3
DTSTAMP:20230115T123129Z
SUMMARY:Walking & Toning - Feb. 8th
URL;VALUE=URI:https://www.wildernesslakecdd.org/calendar/3668324/walking-to
 ning-feb-8th
DTSTART:20230208T143000Z
DTEND:20230208T154500Z
END:VEVENT
END:VCALENDAR
