BEGIN:VCALENDAR
VERSION:2.0
PRODID:SchoolNow
CALSCALE:GREGORIAN
BEGIN:VEVENT
UID:7e31d670-94d0-11ed-8059-02c37e40c7c3
DTSTAMP:20230115T123110Z
SUMMARY:Walking & Toning - Feb. 3rd
URL;VALUE=URI:https://www.wildernesslakecdd.org/calendar/3668323/walking-to
 ning-feb-3rd
DTSTART:20230203T143000Z
DTEND:20230203T154500Z
END:VEVENT
END:VCALENDAR
