BEGIN:VCALENDAR
VERSION:2.0
PRODID:SchoolNow
CALSCALE:GREGORIAN
BEGIN:VEVENT
UID:653b3e04-94d0-11ed-ad99-02c37e40c7c3
DTSTAMP:20230115T123029Z
SUMMARY:Walking & Toning - Feb. 1st
URL;VALUE=URI:https://www.wildernesslakecdd.org/calendar/3668322/walking-to
 ning-feb-1st
DTSTART:20230201T143000Z
DTEND:20230201T154500Z
END:VEVENT
END:VCALENDAR
