BEGIN:VCALENDAR
VERSION:2.0
PRODID:SchoolNow
CALSCALE:GREGORIAN
BEGIN:VEVENT
UID:2a11c686-94d0-11ed-9f08-02c37e40c7c3
DTSTAMP:20230217T171333Z
SUMMARY:Yoga - Mar. 7th - Class 1
URL;VALUE=URI:https://www.wildernesslakecdd.org/calendar/3668321/yoga-mar-7
 th-class-1
DTSTART:20230307T134500Z
DTEND:20230307T144500Z
END:VEVENT
END:VCALENDAR
