BEGIN:VCALENDAR
VERSION:2.0
PRODID:SchoolNow
CALSCALE:GREGORIAN
BEGIN:VEVENT
UID:087e3586-94d0-11ed-852f-02c37e40c7c3
DTSTAMP:20230115T122753Z
SUMMARY:Yoga - Feb. 28th - Class 2
URL;VALUE=URI:https://www.wildernesslakecdd.org/calendar/3668319/yoga-feb-2
 8th-class-2
DTSTART:20230228T145500Z
DTEND:20230228T155500Z
END:VEVENT
END:VCALENDAR
