BEGIN:VCALENDAR
VERSION:2.0
PRODID:SchoolNow
CALSCALE:GREGORIAN
BEGIN:VEVENT
UID:fca59380-94cf-11ed-b48f-02c37e40c7c3
DTSTAMP:20230115T122733Z
SUMMARY:Yoga - Feb. 28th - Class 1
URL;VALUE=URI:https://www.wildernesslakecdd.org/calendar/3668318/yoga-feb-2
 8th-class-1
DTSTART:20230228T134500Z
DTEND:20230228T144500Z
END:VEVENT
END:VCALENDAR
