BEGIN:VCALENDAR
VERSION:2.0
PRODID:SchoolNow
CALSCALE:GREGORIAN
BEGIN:VEVENT
UID:ed3a2c12-94cf-11ed-af73-02c37e40c7c3
DTSTAMP:20230115T122707Z
SUMMARY:Yoga - Feb. 23rd - Class 1
URL;VALUE=URI:https://www.wildernesslakecdd.org/calendar/3668317/yoga-feb-2
 3rd-class-1
DTSTART:20230223T134500Z
DTEND:20230223T144500Z
END:VEVENT
END:VCALENDAR
