BEGIN:VCALENDAR
VERSION:2.0
PRODID:SchoolNow
CALSCALE:GREGORIAN
BEGIN:VEVENT
UID:e1260f86-94cf-11ed-bcbd-02c37e40c7c3
DTSTAMP:20230115T122647Z
SUMMARY:Yoga - Feb. 23rd - Class 2
URL;VALUE=URI:https://www.wildernesslakecdd.org/calendar/3668316/yoga-feb-2
 3rd-class-2
DTSTART:20230223T145500Z
DTEND:20230223T155500Z
END:VEVENT
END:VCALENDAR
