BEGIN:VCALENDAR
VERSION:2.0
PRODID:SchoolNow
CALSCALE:GREGORIAN
BEGIN:VEVENT
UID:d40e24fa-94cf-11ed-8f4f-02c37e40c7c3
DTSTAMP:20230115T122625Z
SUMMARY:Yoga - Feb. 21st - Class 2
URL;VALUE=URI:https://www.wildernesslakecdd.org/calendar/3668315/yoga-feb-2
 1st-class-2
DTSTART:20230221T145500Z
DTEND:20230221T155500Z
END:VEVENT
END:VCALENDAR
