BEGIN:VCALENDAR
VERSION:2.0
PRODID:SchoolNow
CALSCALE:GREGORIAN
BEGIN:VEVENT
UID:c99c42fe-94cf-11ed-8231-02c37e40c7c3
DTSTAMP:20230115T122607Z
SUMMARY:Yoga - Feb. 21st - Class 1
URL;VALUE=URI:https://www.wildernesslakecdd.org/calendar/3668314/yoga-feb-2
 1st-class-1
DTSTART:20230221T134500Z
DTEND:20230221T144500Z
END:VEVENT
END:VCALENDAR
