BEGIN:VCALENDAR
VERSION:2.0
PRODID:SchoolNow
CALSCALE:GREGORIAN
BEGIN:VEVENT
UID:b0d56fd4-94cf-11ed-a1dc-02c37e40c7c3
DTSTAMP:20230115T122526Z
SUMMARY:Yoga - Feb. 16th - Class 1
URL;VALUE=URI:https://www.wildernesslakecdd.org/calendar/3668313/yoga-feb-1
 6th-class-1
DTSTART:20230216T134500Z
DTEND:20230216T144500Z
END:VEVENT
END:VCALENDAR
