BEGIN:VCALENDAR
VERSION:2.0
PRODID:SchoolNow
CALSCALE:GREGORIAN
BEGIN:VEVENT
UID:a4a87ecc-94cf-11ed-9995-02c37e40c7c3
DTSTAMP:20230115T122506Z
SUMMARY:Yoga - Feb. 16th - Class 2
URL;VALUE=URI:https://www.wildernesslakecdd.org/calendar/3668312/yoga-feb-1
 6th-class-2
DTSTART:20230216T145500Z
DTEND:20230216T155500Z
END:VEVENT
END:VCALENDAR
