BEGIN:VCALENDAR
VERSION:2.0
PRODID:SchoolNow
CALSCALE:GREGORIAN
BEGIN:VEVENT
UID:95a8dc00-94cf-11ed-b0b3-02c37e40c7c3
DTSTAMP:20230115T122440Z
SUMMARY:Yoga - Feb. 14th - Class 2
URL;VALUE=URI:https://www.wildernesslakecdd.org/calendar/3668311/yoga-feb-1
 4th-class-2
DTSTART:20230214T145500Z
DTEND:20230214T155500Z
END:VEVENT
END:VCALENDAR
