BEGIN:VCALENDAR
VERSION:2.0
PRODID:SchoolNow
CALSCALE:GREGORIAN
BEGIN:VEVENT
UID:8b2d1df4-94cf-11ed-a7ca-02c37e40c7c3
DTSTAMP:20230115T122423Z
SUMMARY:Yoga - Feb. 14th - Class 1
URL;VALUE=URI:https://www.wildernesslakecdd.org/calendar/3668310/yoga-feb-1
 4th-class-1
DTSTART:20230214T134500Z
DTEND:20230214T144500Z
END:VEVENT
END:VCALENDAR
