BEGIN:VCALENDAR
VERSION:2.0
PRODID:SchoolNow
CALSCALE:GREGORIAN
BEGIN:VEVENT
UID:7983f122-94cf-11ed-8ef2-02c37e40c7c3
DTSTAMP:20230115T122353Z
SUMMARY:Yoga - Feb. 9th - Class 2
URL;VALUE=URI:https://www.wildernesslakecdd.org/calendar/3668309/yoga-feb-9
 th-class-2
DTSTART:20230209T145500Z
DTEND:20230209T155500Z
END:VEVENT
END:VCALENDAR
