BEGIN:VCALENDAR
VERSION:2.0
PRODID:SchoolNow
CALSCALE:GREGORIAN
BEGIN:VEVENT
UID:6f7ab8fa-94cf-11ed-a84e-02c37e40c7c3
DTSTAMP:20230115T122336Z
SUMMARY:Yoga - Feb. 9th - Class 1
URL;VALUE=URI:https://www.wildernesslakecdd.org/calendar/3668308/yoga-feb-9
 th-class-1
DTSTART:20230209T134500Z
DTEND:20230209T144500Z
END:VEVENT
END:VCALENDAR
