BEGIN:VCALENDAR
VERSION:2.0
PRODID:SchoolNow
CALSCALE:GREGORIAN
BEGIN:VEVENT
UID:5eff0922-94cf-11ed-859b-02c37e40c7c3
DTSTAMP:20230115T122309Z
SUMMARY:Yoga - Feb. 7th - Class 2
URL;VALUE=URI:https://www.wildernesslakecdd.org/calendar/3668307/yoga-feb-7
 th-class-2
DTSTART:20230207T145500Z
DTEND:20230207T155500Z
END:VEVENT
END:VCALENDAR
