BEGIN:VCALENDAR
VERSION:2.0
PRODID:SchoolNow
CALSCALE:GREGORIAN
BEGIN:VEVENT
UID:525a9c2c-94cf-11ed-b72e-02c37e40c7c3
DTSTAMP:20230115T122247Z
SUMMARY:Yoga - Feb. 7th - Class 1
URL;VALUE=URI:https://www.wildernesslakecdd.org/calendar/3668306/yoga-feb-7
 th-class-1
DTSTART:20230207T134500Z
DTEND:20230207T144500Z
END:VEVENT
END:VCALENDAR
