BEGIN:VCALENDAR
VERSION:2.0
PRODID:SchoolNow
CALSCALE:GREGORIAN
BEGIN:VEVENT
UID:393aa66a-94cf-11ed-8858-02c37e40c7c3
DTSTAMP:20230115T122205Z
SUMMARY:Yoga - Feb. 2nd - Class 2
URL;VALUE=URI:https://www.wildernesslakecdd.org/calendar/3668305/yoga-feb-2
 nd-class-2
DTSTART:20230202T145500Z
DTEND:20230202T155500Z
END:VEVENT
END:VCALENDAR
