BEGIN:VCALENDAR
VERSION:2.0
PRODID:SchoolNow
CALSCALE:GREGORIAN
BEGIN:VEVENT
UID:2655aba8-94cf-11ed-a26f-02c37e40c7c3
DTSTAMP:20230115T122134Z
SUMMARY:Yoga - Feb. 2nd - Class 1
URL;VALUE=URI:https://www.wildernesslakecdd.org/calendar/3668304/yoga-feb-2
 nd-class-1
DTSTART:20230202T134500Z
DTEND:20230202T144500Z
END:VEVENT
END:VCALENDAR
