BEGIN:VCALENDAR
VERSION:2.0
PRODID:SchoolNow
CALSCALE:GREGORIAN
BEGIN:VEVENT
UID:05c647ee-94cf-11ed-b3f2-02c37e40c7c3
DTSTAMP:20230115T122039Z
SUMMARY:Bible Study - Feb. 22nd
URL;VALUE=URI:https://www.wildernesslakecdd.org/calendar/3668303/bible-stud
 y-feb-22nd
DTSTART:20230222T150000Z
DTEND:20230222T160000Z
END:VEVENT
END:VCALENDAR
