BEGIN:VCALENDAR
VERSION:2.0
PRODID:SchoolNow
CALSCALE:GREGORIAN
BEGIN:VEVENT
UID:f9c469da-94ce-11ed-85aa-02c37e40c7c3
DTSTAMP:20230115T122019Z
SUMMARY:Bible Study - Feb. 15th
URL;VALUE=URI:https://www.wildernesslakecdd.org/calendar/3668302/bible-stud
 y-feb-15th
DTSTART:20230215T150000Z
DTEND:20230215T160000Z
END:VEVENT
END:VCALENDAR
