BEGIN:VCALENDAR
VERSION:2.0
PRODID:SchoolNow
CALSCALE:GREGORIAN
BEGIN:VEVENT
UID:dd01cbe4-94ce-11ed-9534-02c37e40c7c3
DTSTAMP:20230115T121931Z
SUMMARY:Bible Study - Feb. 8th
URL;VALUE=URI:https://www.wildernesslakecdd.org/calendar/3668301/bible-stud
 y-feb-8th
DTSTART:20230208T150000Z
DTEND:20230208T160000Z
END:VEVENT
END:VCALENDAR
