BEGIN:VCALENDAR
VERSION:2.0
PRODID:SchoolNow
CALSCALE:GREGORIAN
BEGIN:VEVENT
UID:c2d75cf2-94ce-11ed-b65f-02c37e40c7c3
DTSTAMP:20230115T121847Z
SUMMARY:Bible Study - Feb. 1st
URL;VALUE=URI:https://www.wildernesslakecdd.org/calendar/3668300/bible-stud
 y-feb-1st
DTSTART:20230201T150000Z
DTEND:20230201T160000Z
END:VEVENT
END:VCALENDAR
