BEGIN:VCALENDAR
VERSION:2.0
PRODID:SchoolNow
CALSCALE:GREGORIAN
BEGIN:VEVENT
UID:85cb1b64-94ce-11ed-8251-02c37e40c7c3
DTSTAMP:20230115T121704Z
SUMMARY:Pickleball - Feb 28th
URL;VALUE=URI:https://www.wildernesslakecdd.org/calendar/3668299/pickleball
 -feb-28th
DTSTART:20230228T233000Z
DTEND:20230301T003000Z
END:VEVENT
END:VCALENDAR
