BEGIN:VCALENDAR
VERSION:2.0
PRODID:SchoolNow
CALSCALE:GREGORIAN
BEGIN:VEVENT
UID:4d01b072-94ce-11ed-8e0b-02c37e40c7c3
DTSTAMP:20230115T121529Z
SUMMARY:Pickleball - Feb 21st
URL;VALUE=URI:https://www.wildernesslakecdd.org/calendar/3668297/pickleball
 -feb-21st
DTSTART:20230221T233000Z
DTEND:20230222T003000Z
END:VEVENT
END:VCALENDAR
