BEGIN:VCALENDAR
VERSION:2.0
PRODID:SchoolNow
CALSCALE:GREGORIAN
BEGIN:VEVENT
UID:3f062cdc-94ce-11ed-990c-02c37e40c7c3
DTSTAMP:20230115T121505Z
SUMMARY:Pickleball - Feb 16th
URL;VALUE=URI:https://www.wildernesslakecdd.org/calendar/3668296/pickleball
 -feb-16th
DTSTART:20230216T233000Z
DTEND:20230217T003000Z
END:VEVENT
END:VCALENDAR
